BEGIN:VCALENDAR
VERSION:2.0
PRODID:icalendar-ruby
CALSCALE:GREGORIAN
METHOD:PUBLISH
BEGIN:VEVENT
DTSTAMP:20260424T223104Z
UID:5-1465101@newlifestockbridge.com
DTSTART:20261101T160000Z
DTEND:20261101T170000Z
CLASS:PUBLIC
CREATED:20260424T165708
DESCRIPTION:Sunday Worship
LAST-MODIFIED:20260424T165708
LOCATION:
SUMMARY:Sunday Worship
URL;VALUE=URI:https://www.newlifestockbridge.com/events/sunday-worship/2026
 -11-01
END:VEVENT
END:VCALENDAR
