BEGIN:VCALENDAR
VERSION:2.0
PRODID:icalendar-ruby
CALSCALE:GREGORIAN
METHOD:PUBLISH
BEGIN:VEVENT
DTSTAMP:20260424T163308Z
UID:5-1464156@newlifestockbridge.com
DTSTART:20260927T150000Z
DTEND:20260927T160000Z
CLASS:PUBLIC
CREATED:20260424T112326
DESCRIPTION:Sunday Worship
LAST-MODIFIED:20260424T112326
LOCATION:
SUMMARY:Sunday Worship
URL;VALUE=URI:https://www.newlifestockbridge.com/events/sunday-worship/2026
 -09-27
END:VEVENT
END:VCALENDAR
