BEGIN:VCALENDAR
VERSION:2.0
PRODID:icalendar-ruby
CALSCALE:GREGORIAN
METHOD:PUBLISH
BEGIN:VEVENT
DTSTAMP:20260424T110749Z
UID:5-1463212@newlifestockbridge.com
DTSTART:20260830T150000Z
DTEND:20260830T160000Z
CLASS:PUBLIC
CREATED:20260423T230231
DESCRIPTION:Sunday Worship
LAST-MODIFIED:20260423T230231
LOCATION:
SUMMARY:Sunday Worship
URL;VALUE=URI:https://www.newlifestockbridge.com/events/sunday-worship/2026
 -08-30
END:VEVENT
END:VCALENDAR
