BEGIN:VCALENDAR
VERSION:2.0
PRODID:icalendar-ruby
CALSCALE:GREGORIAN
METHOD:PUBLISH
BEGIN:VEVENT
DTSTAMP:20260422T114514Z
UID:5-1457569@newlifestockbridge.com
DTSTART:20260809T150000Z
DTEND:20260809T160000Z
CLASS:PUBLIC
CREATED:20260421T212226
DESCRIPTION:Sunday Worship
LAST-MODIFIED:20260421T212226
LOCATION:
SUMMARY:Sunday Worship
URL;VALUE=URI:https://www.newlifestockbridge.com/events/sunday-worship/2026
 -08-09
END:VEVENT
END:VCALENDAR
